BEGIN:VCALENDAR
VERSION:2.0
PRODID:-//Tukios.com/
BEGIN:VEVENT
UID:0d4794bb-67f0-4d6e-96dc-0d3490d51146@www.cappetta-dicanio.com
DTSTAMP:20260422T042148Z
DTSTART:20260424T140000Z
DTEND:20260424T150000Z
SUMMARY:Visitation
DESCRIPTION:Visitation
URL:https://www.cappetta-dicanio.com/obituaries/joseph-fuoco
LOCATION:St. Beatrice Catholic Church (Holy Virgin Martyrs Parish) 4157 
	Atlantic Ave  Schiller Park IL 60176
GEO:41.954933;-87.8694615
END:VEVENT
END:VCALENDAR