BEGIN:VCALENDAR
VERSION:2.0
PRODID:-//Tukios.com/
BEGIN:VEVENT
UID:0a681653-7c29-4d60-b2e3-90b3d4fd2e51@www.cappetta-dicanio.com
DTSTAMP:20260422T132211Z
DTSTART:20260424T150000Z
DTEND:20260424T160000Z
SUMMARY:Mass
DESCRIPTION:
URL:https://www.cappetta-dicanio.com/obituaries/joseph-fuoco
LOCATION: 4157 Atlantic Ave  Schiller Park IL 60176
GEO:41.954933;-87.8694615
END:VEVENT
END:VCALENDAR