BEGIN:VCALENDAR
VERSION:2.0
PRODID:-//Tukios.com/
BEGIN:VEVENT
UID:27ff99a8-c8d4-439d-884a-4be12939120f@www.cappetta-dicanio.com
DTSTAMP:20260424T083546Z
DTSTART:20260424T180000Z
DTEND:20260424T190000Z
SUMMARY:Interment With Military Honors
DESCRIPTION:
URL:https://www.cappetta-dicanio.com/obituaries/joseph-fuoco
LOCATION:Abraham Lincoln National Cemetery 20953 W. Hoff Rd.  Elwood IL 
	6060421
GEO:41.3920917;-88.1304399
END:VEVENT
END:VCALENDAR